BEGIN:VCALENDAR
VERSION:2.0
PRODID:-//Karpacz//NONSGML v1.0//PL
CALSCALE:GREGORIAN
X-WR-TIMEZONE:Europe/Warsaw
BEGIN:VEVENT
DTSTART:20230905T113000
DTEND:20230907T140000
UID:69e7a7f4c949b
DTSTAMP:20260421T183812
LOCATION: Karpacz\, Hotel Gołębiewski
DESCRIPTION:„Nowe wartości Starego Kontynentu – Europa u progu zmian” https://www.karpacz.pl/xxxii-forum-ekonomiczne-2899/e
URL:https://www.karpacz.pl/xxxii-forum-ekonomiczne-2899/e
SUMMARY:XXXII Forum Ekonomiczne
END:VEVENT
END:VCALENDAR