BEGIN:VCALENDAR
VERSION:2.0
PRODID:-//Karpacz//NONSGML v1.0//PL
CALSCALE:GREGORIAN
X-WR-TIMEZONE:Europe/Warsaw
BEGIN:VEVENT
DTSTART:20120225T100000
DTEND:20120225T100000
UID:69ed559811825
DTSTAMP:20260426T020024
LOCATION:Trasa biegowa w Karpaczu Górnym
DESCRIPTION:Zajęcia z instruktorem Narciarstwa Klasycznego (narty biegowe) na trasie biegowej w Karpaczu G&oacute\;rnym. 
25.02.2012r.\,od godz. 10:00 do godz. 12:00.
Wszystkich chętnych serdecznie zapraszamy. https://www.karpacz.pl/zajecia-z-instruktorem-narciarstwa-klasycznego-1071-1322/e
URL:https://www.karpacz.pl/zajecia-z-instruktorem-narciarstwa-klasycznego-1071-1322/e
SUMMARY:Zajęcia z instruktorem Narciarstwa Klasycznego 
END:VEVENT
END:VCALENDAR