BEGIN:VCALENDAR
VERSION:2.0
PRODID:-//Karpacz//NONSGML v1.0//PL
CALSCALE:GREGORIAN
X-WR-TIMEZONE:Europe/Warsaw
BEGIN:VEVENT
DTSTART:20231201T100000
DTEND:20231201T130000
UID:69e8c06532f1e
DTSTAMP:20260422T143445
LOCATION:Karpacz\, Hala Widowiskowo-Sportowa w Karpaczu\, ul. Konstytucji 3 Maja 48A
DESCRIPTION: https://www.karpacz.pl/zimowa-akademia-sportu-2933/e
URL:https://www.karpacz.pl/zimowa-akademia-sportu-2933/e
SUMMARY:Zimowa Akademia Sportu
END:VEVENT
END:VCALENDAR