BEGIN:VCALENDAR
VERSION:2.0
PRODID:-//Karpacz//NONSGML v1.0//PL
CALSCALE:GREGORIAN
X-WR-TIMEZONE:Europe/Warsaw
BEGIN:VEVENT
DTSTART:20250217T095500
DTEND:20250217T140000
UID:69e8854db7248
DTSTAMP:20260422T102237
LOCATION:Informacja Turystyczna w Karpaczu\, ul. Konstytucji 3 Maja 25
DESCRIPTION: https://www.karpacz.pl/zimowe-wedrowki-z-przewodnikiem-3148/e
URL:https://www.karpacz.pl/zimowe-wedrowki-z-przewodnikiem-3148/e
SUMMARY:Zimowe wędrówki z przewodnikiem
END:VEVENT
END:VCALENDAR