BEGIN:VCALENDAR
VERSION:2.0
PRODID:-//Karpacz//NONSGML v1.0//PL
CALSCALE:GREGORIAN
X-WR-TIMEZONE:Europe/Warsaw
BEGIN:VEVENT
DTSTART:20260209T100000
DTEND:20260209T130000
UID:69ed6b0676e09
DTSTAMP:20260426T033150
LOCATION:Informacja Turystyczna w Karpaczu\, ul. Konstytucji 3 Maja 25
DESCRIPTION: https://www.karpacz.pl/zimowe-wedrowki-z-przewodnikiem-3347/e
URL:https://www.karpacz.pl/zimowe-wedrowki-z-przewodnikiem-3347/e
SUMMARY:Zimowe wędrówki z przewodnikiem
END:VEVENT
END:VCALENDAR