BEGIN:VCALENDAR
VERSION:2.0
PRODID:-//Karpacz//NONSGML v1.0//PL
CALSCALE:GREGORIAN
X-WR-TIMEZONE:Europe/Warsaw
BEGIN:VEVENT
DTSTART:20260227T153000
DTEND:20260227T220000
UID:69ea7909d3373
DTSTAMP:20260423T215449
LOCATION:Centrum Integracji\, Edukacji i Kultury w Karpaczu ul. Konstytucji 3 Maja 24
DESCRIPTION: https://www.karpacz.pl/zukowe-prelekcje-i-projekcje-3390/e
URL:https://www.karpacz.pl/zukowe-prelekcje-i-projekcje-3390/e
SUMMARY:ZUKOWE prelekcje i projekcje
END:VEVENT
END:VCALENDAR